BEGIN:VCALENDAR
VERSION:2.0
PRODID:-//Tremplin Cadres hdf - ECPv6.15.20//NONSGML v1.0//EN
CALSCALE:GREGORIAN
METHOD:PUBLISH
X-WR-CALNAME:Tremplin Cadres hdf
X-ORIGINAL-URL:https://tremplincadreshdf.fr
X-WR-CALDESC:Évènements pour Tremplin Cadres hdf
REFRESH-INTERVAL;VALUE=DURATION:PT1H
X-Robots-Tag:noindex
X-PUBLISHED-TTL:PT1H
BEGIN:VTIMEZONE
TZID:Europe/Paris
BEGIN:DAYLIGHT
TZOFFSETFROM:+0100
TZOFFSETTO:+0200
TZNAME:CEST
DTSTART:20250330T010000
END:DAYLIGHT
BEGIN:STANDARD
TZOFFSETFROM:+0200
TZOFFSETTO:+0100
TZNAME:CET
DTSTART:20251026T010000
END:STANDARD
BEGIN:DAYLIGHT
TZOFFSETFROM:+0100
TZOFFSETTO:+0200
TZNAME:CEST
DTSTART:20260329T010000
END:DAYLIGHT
BEGIN:STANDARD
TZOFFSETFROM:+0200
TZOFFSETTO:+0100
TZNAME:CET
DTSTART:20261025T010000
END:STANDARD
BEGIN:DAYLIGHT
TZOFFSETFROM:+0100
TZOFFSETTO:+0200
TZNAME:CEST
DTSTART:20270328T010000
END:DAYLIGHT
BEGIN:STANDARD
TZOFFSETFROM:+0200
TZOFFSETTO:+0100
TZNAME:CET
DTSTART:20271031T010000
END:STANDARD
END:VTIMEZONE
BEGIN:VEVENT
DTSTART;TZID=Europe/Paris:20260423T090000
DTEND;TZID=Europe/Paris:20260423T120000
DTSTAMP:20260422T141130
CREATED:20260219T155020Z
LAST-MODIFIED:20260323T090635Z
UID:7940-1776934800-1776945600@tremplincadreshdf.fr
SUMMARY:Atelier Pitch
DESCRIPTION:
URL:https://tremplincadreshdf.fr/event/atelier-pitch-5/
LOCATION:Maison du citoyen\, Avenue de Dunkerque\, Lomme
END:VEVENT
BEGIN:VEVENT
DTSTART;TZID=Europe/Paris:20260428T143000
DTEND;TZID=Europe/Paris:20260428T163000
DTSTAMP:20260422T141130
CREATED:20260219T164313Z
LAST-MODIFIED:20260219T164313Z
UID:7948-1777386600-1777393800@tremplincadreshdf.fr
SUMMARY:English Easy
DESCRIPTION:
URL:https://tremplincadreshdf.fr/event/english-easy-7/
LOCATION:Hôtel Bercail\, 60 Av. de l'Espace\, Wambrechies\, 59118\, France
END:VEVENT
BEGIN:VEVENT
DTSTART;TZID=Europe/Paris:20260430T090000
DTEND;TZID=Europe/Paris:20260430T120000
DTSTAMP:20260422T141130
CREATED:20260306T111438Z
LAST-MODIFIED:20260306T111438Z
UID:8725-1777539600-1777550400@tremplincadreshdf.fr
SUMMARY:Visite Société WEPA
DESCRIPTION:Ateliers de simulation d’entretiens d’embauche \nPitch devant les recruteurs : Les adhérents s’entraînent à présenter leur parcours et leurs compétences face à des professionnels du recrutement.\nVisite d’entreprise : Découverte des locaux et de l’environnement de travail.\nGroupe limité à 12 participants
URL:https://tremplincadreshdf.fr/event/visite-societe-wepa/
LOCATION:Bousbecque\, Avenue de l'Europe\, Bousbecque\, 59166
END:VEVENT
BEGIN:VEVENT
DTSTART;TZID=Europe/Paris:20260505T090000
DTEND;TZID=Europe/Paris:20260505T120000
DTSTAMP:20260422T141130
CREATED:20260219T164714Z
LAST-MODIFIED:20260219T164714Z
UID:7952-1777971600-1777982400@tremplincadreshdf.fr
SUMMARY:Atelier Linkedin
DESCRIPTION:
URL:https://tremplincadreshdf.fr/event/atelier-linkedin-3/
LOCATION:AFPA LOMME\, 35 rue de la Mitterie\, LILLE\, 59160\, France
END:VEVENT
BEGIN:VEVENT
DTSTART;TZID=Europe/Paris:20260507T090000
DTEND;TZID=Europe/Paris:20260507T120000
DTSTAMP:20260422T141130
CREATED:20260219T164849Z
LAST-MODIFIED:20260219T164849Z
UID:7954-1778144400-1778155200@tremplincadreshdf.fr
SUMMARY:projet collectif
DESCRIPTION:
URL:https://tremplincadreshdf.fr/event/projet-collectif-4/
LOCATION:Chateau de Robersart\, Wambrechies
END:VEVENT
BEGIN:VEVENT
DTSTART;TZID=Europe/Paris:20260507T090000
DTEND;TZID=Europe/Paris:20260507T120000
DTSTAMP:20260422T141130
CREATED:20260421T163210Z
LAST-MODIFIED:20260421T163210Z
UID:9059-1778144400-1778155200@tremplincadreshdf.fr
SUMMARY:Remise chèque Adecco
DESCRIPTION:
URL:https://tremplincadreshdf.fr/event/remise-cheque-adecco/
LOCATION:Chateau de Robersart\, Wambrechies
END:VEVENT
BEGIN:VEVENT
DTSTART;TZID=Europe/Paris:20260512T080000
DTEND;TZID=Europe/Paris:20260512T170000
DTSTAMP:20260422T141130
CREATED:20260219T165044Z
LAST-MODIFIED:20260219T165044Z
UID:7956-1778572800-1778605200@tremplincadreshdf.fr
SUMMARY:English Easy
DESCRIPTION:
URL:https://tremplincadreshdf.fr/event/english-easy-8/
LOCATION:Hôtel Bercail\, 60 Av. de l'Espace\, Wambrechies\, 59118\, France
END:VEVENT
BEGIN:VEVENT
DTSTART;VALUE=DATE:20260514
DTEND;VALUE=DATE:20260515
DTSTAMP:20260422T141130
CREATED:20260219T172012Z
LAST-MODIFIED:20260219T172012Z
UID:7980-1778716800-1778803199@tremplincadreshdf.fr
SUMMARY:Férié
DESCRIPTION:
URL:https://tremplincadreshdf.fr/event/ferie/
END:VEVENT
BEGIN:VEVENT
DTSTART;TZID=Europe/Paris:20260521T090000
DTEND;TZID=Europe/Paris:20260521T120000
DTSTAMP:20260422T141130
CREATED:20260219T165426Z
LAST-MODIFIED:20260219T165426Z
UID:7958-1779354000-1779364800@tremplincadreshdf.fr
SUMMARY:L'art de présenter son pitch\, devant un recruteur
DESCRIPTION:
URL:https://tremplincadreshdf.fr/event/lart-de-presenter-son-pitch-devant-un-recruteur/
LOCATION:Maison du citoyen\, Avenue de Dunkerque\, Lomme
END:VEVENT
BEGIN:VEVENT
DTSTART;TZID=Europe/Paris:20260521T090000
DTEND;TZID=Europe/Paris:20260521T180000
DTSTAMP:20260422T141130
CREATED:20260402T045848Z
LAST-MODIFIED:20260402T045848Z
UID:8915-1779354000-1779386400@tremplincadreshdf.fr
SUMMARY:Les Rencontres de l’emploi
DESCRIPTION:
URL:https://tremplincadreshdf.fr/event/les-rencontres-de-lemploi/
LOCATION:Salle du Pont des Arts\, Place DOUMER\, Marcq en Baroeul
END:VEVENT
BEGIN:VEVENT
DTSTART;TZID=Europe/Paris:20260526T143000
DTEND;TZID=Europe/Paris:20260526T163000
DTSTAMP:20260422T141130
CREATED:20260219T165714Z
LAST-MODIFIED:20260219T165714Z
UID:7961-1779805800-1779813000@tremplincadreshdf.fr
SUMMARY:English Easy
DESCRIPTION:
URL:https://tremplincadreshdf.fr/event/english-easy-9/
LOCATION:Hôtel Bercail\, 60 Av. de l'Espace\, Wambrechies\, 59118\, France
END:VEVENT
BEGIN:VEVENT
DTSTART;TZID=Europe/Paris:20260528T090000
DTEND;TZID=Europe/Paris:20260528T120000
DTSTAMP:20260422T141130
CREATED:20260219T163748Z
LAST-MODIFIED:20260328T085707Z
UID:7944-1779958800-1779969600@tremplincadreshdf.fr
SUMMARY:Vision Board
DESCRIPTION:
URL:https://tremplincadreshdf.fr/event/vision-board/
LOCATION:Chateau de Robersart\, Wambrechies
END:VEVENT
BEGIN:VEVENT
DTSTART;TZID=Europe/Paris:20260602T090000
DTEND;TZID=Europe/Paris:20260602T120000
DTSTAMP:20260422T141130
CREATED:20260219T170418Z
LAST-MODIFIED:20260219T170418Z
UID:7967-1780390800-1780401600@tremplincadreshdf.fr
SUMMARY:Atelier Pitch
DESCRIPTION:
URL:https://tremplincadreshdf.fr/event/atelier-pitch-6/
LOCATION:AFPA LOMME\, 35 rue de la Mitterie\, LILLE\, 59160\, France
END:VEVENT
BEGIN:VEVENT
DTSTART;TZID=Europe/Paris:20260604T090000
DTEND;TZID=Europe/Paris:20260604T120000
DTSTAMP:20260422T141130
CREATED:20260219T170147Z
LAST-MODIFIED:20260219T170147Z
UID:7965-1780563600-1780574400@tremplincadreshdf.fr
SUMMARY:projet collectif
DESCRIPTION:
URL:https://tremplincadreshdf.fr/event/projet-collectif-5/
LOCATION:Maison du citoyen\, Avenue de Dunkerque\, Lomme
END:VEVENT
BEGIN:VEVENT
DTSTART;TZID=Europe/Paris:20260609T143000
DTEND;TZID=Europe/Paris:20260609T163000
DTSTAMP:20260422T141130
CREATED:20260219T170604Z
LAST-MODIFIED:20260219T170604Z
UID:7969-1781015400-1781022600@tremplincadreshdf.fr
SUMMARY:English Easy
DESCRIPTION:
URL:https://tremplincadreshdf.fr/event/english-easy-10/
LOCATION:Hôtel Bercail\, 60 Av. de l'Espace\, Wambrechies\, 59118\, France
END:VEVENT
BEGIN:VEVENT
DTSTART;TZID=Europe/Paris:20260611T090000
DTEND;TZID=Europe/Paris:20260611T120000
DTSTAMP:20260422T141130
CREATED:20260219T172311Z
LAST-MODIFIED:20260408T143729Z
UID:7982-1781168400-1781179200@tremplincadreshdf.fr
SUMMARY:Présentation Live\, puis jeu "conduire sa vie " et café échange
DESCRIPTION:
URL:https://tremplincadreshdf.fr/event/a-definir/
LOCATION:Chateau de Robersart\, Wambrechies
END:VEVENT
BEGIN:VEVENT
DTSTART;TZID=Europe/Paris:20260618T090000
DTEND;TZID=Europe/Paris:20260618T120000
DTSTAMP:20260422T141130
CREATED:20260219T170809Z
LAST-MODIFIED:20260226T131433Z
UID:7971-1781773200-1781784000@tremplincadreshdf.fr
SUMMARY:Atelier collectif I.A
DESCRIPTION:
URL:https://tremplincadreshdf.fr/event/atelier-collectif-i-a/
LOCATION:Maison du citoyen\, Avenue de Dunkerque\, Lomme
END:VEVENT
BEGIN:VEVENT
DTSTART;TZID=Europe/Paris:20260623T143000
DTEND;TZID=Europe/Paris:20260623T163000
DTSTAMP:20260422T141130
CREATED:20260219T171051Z
LAST-MODIFIED:20260219T171051Z
UID:7973-1782225000-1782232200@tremplincadreshdf.fr
SUMMARY:English Easy
DESCRIPTION:
URL:https://tremplincadreshdf.fr/event/english-easy-11/
LOCATION:Hôtel Bercail\, 60 Av. de l'Espace\, Wambrechies\, 59118\, France
END:VEVENT
BEGIN:VEVENT
DTSTART;TZID=Europe/Paris:20260625T090000
DTEND;TZID=Europe/Paris:20260625T150000
DTSTAMP:20260422T141130
CREATED:20260219T171335Z
LAST-MODIFIED:20260219T171335Z
UID:7975-1782378000-1782399600@tremplincadreshdf.fr
SUMMARY:Auberge espagnole
DESCRIPTION:
URL:https://tremplincadreshdf.fr/event/auberge-espagnole/
LOCATION:Chateau de Robersart\, Wambrechies
END:VEVENT
BEGIN:VEVENT
DTSTART;TZID=Europe/Paris:20260702T090000
DTEND;TZID=Europe/Paris:20260702T120000
DTSTAMP:20260422T141130
CREATED:20260219T171505Z
LAST-MODIFIED:20260421T162733Z
UID:7977-1782982800-1782993600@tremplincadreshdf.fr
SUMMARY:Projet collectif
DESCRIPTION:
URL:https://tremplincadreshdf.fr/event/projet-collectif-6/
LOCATION:Maison du citoyen\, Avenue de Dunkerque\, Lomme
END:VEVENT
BEGIN:VEVENT
DTSTART;TZID=Europe/Paris:20260709T090000
DTEND;TZID=Europe/Paris:20260709T120000
DTSTAMP:20260422T141130
CREATED:20260219T164535Z
LAST-MODIFIED:20260306T110515Z
UID:7950-1783587600-1783598400@tremplincadreshdf.fr
SUMMARY:Face à Face / Lettre à soi
DESCRIPTION:
URL:https://tremplincadreshdf.fr/event/face-a-face-lettre-a-soi/
LOCATION:Chateau de Robersart\, Wambrechies
END:VEVENT
BEGIN:VEVENT
DTSTART;TZID=Europe/Paris:20260910T110000
DTEND;TZID=Europe/Paris:20260910T120000
DTSTAMP:20260422T141130
CREATED:20260421T125746Z
LAST-MODIFIED:20260421T125746Z
UID:9053-1789038000-1789041600@tremplincadreshdf.fr
SUMMARY:Présentation duo for A job
DESCRIPTION:
URL:https://tremplincadreshdf.fr/event/presentation-duo-for-a-job/
LOCATION:Chateau de Robersart\, Wambrechies
END:VEVENT
END:VCALENDAR